BEGIN:VCALENDAR
VERSION:2.0
PRODID:-//BPSOU - ECPv6.15.18//NONSGML v1.0//EN
CALSCALE:GREGORIAN
METHOD:PUBLISH
X-ORIGINAL-URL:https://bpsou.com
X-WR-CALDESC:Events for BPSOU
REFRESH-INTERVAL;VALUE=DURATION:PT1H
X-Robots-Tag:noindex
X-PUBLISHED-TTL:PT1H
BEGIN:VTIMEZONE
TZID:America/Denver
BEGIN:DAYLIGHT
TZOFFSETFROM:-0700
TZOFFSETTO:-0600
TZNAME:MDT
DTSTART:20220313T090000
END:DAYLIGHT
BEGIN:STANDARD
TZOFFSETFROM:-0600
TZOFFSETTO:-0700
TZNAME:MST
DTSTART:20221106T080000
END:STANDARD
BEGIN:DAYLIGHT
TZOFFSETFROM:-0700
TZOFFSETTO:-0600
TZNAME:MDT
DTSTART:20230312T090000
END:DAYLIGHT
BEGIN:STANDARD
TZOFFSETFROM:-0600
TZOFFSETTO:-0700
TZNAME:MST
DTSTART:20231105T080000
END:STANDARD
BEGIN:DAYLIGHT
TZOFFSETFROM:-0700
TZOFFSETTO:-0600
TZNAME:MDT
DTSTART:20240310T090000
END:DAYLIGHT
BEGIN:STANDARD
TZOFFSETFROM:-0600
TZOFFSETTO:-0700
TZNAME:MST
DTSTART:20241103T080000
END:STANDARD
BEGIN:DAYLIGHT
TZOFFSETFROM:-0700
TZOFFSETTO:-0600
TZNAME:MDT
DTSTART:20250309T090000
END:DAYLIGHT
BEGIN:STANDARD
TZOFFSETFROM:-0600
TZOFFSETTO:-0700
TZNAME:MST
DTSTART:20251102T080000
END:STANDARD
END:VTIMEZONE
BEGIN:VEVENT
DTSTART;TZID=America/Denver:20230831T080000
DTEND;TZID=America/Denver:20240401T170000
DTSTAMP:20260422T083135
CREATED:20230831T185431Z
LAST-MODIFIED:20230831T185431Z
UID:2915-1693468800-1711990800@bpsou.com
SUMMARY:Lexington Wetlands Construction
DESCRIPTION:
URL:https://bpsou.com/event/lexington-wetlands-construction/
LOCATION:Lexington Wetlands\, Lexington Ave and Chula Ave\, Butte\, Montana\, 59701\, United States
END:VEVENT
BEGIN:VEVENT
DTSTART;TZID=America/Denver:20240227T153000
DTEND;TZID=America/Denver:20240227T170000
DTSTAMP:20260422T083135
CREATED:20240223T214717Z
LAST-MODIFIED:20240223T214717Z
UID:2951-1709047800-1709053200@bpsou.com
SUMMARY:Butte Medical Monitoring Work Group Meeting
DESCRIPTION:https://teams.microsoft.com/l/meetup-join/19%3ameeting_M2Q3YjNhNzYtODU1Ni00MjM3LTk3ZWQtMjE2Y2NlN2NiOWE5%40thread.v2/0?context=%7b%22Tid%22%3a%22c8823c91-be81-4f89-b024-6c3dd789c106%22%2c%22Oid%22%3a%228eccde0e-0d03-4d37-8ba9-3a270f594287%22%7d
URL:https://bpsou.com/event/butte-medical-monitoring-work-group-meeting/
END:VEVENT
END:VCALENDAR