BEGIN:VCALENDAR
VERSION:2.0
PRODID:-//BPSOU - ECPv6.15.18//NONSGML v1.0//EN
CALSCALE:GREGORIAN
METHOD:PUBLISH
X-ORIGINAL-URL:https://bpsou.com
X-WR-CALDESC:Events for BPSOU
REFRESH-INTERVAL;VALUE=DURATION:PT1H
X-Robots-Tag:noindex
X-PUBLISHED-TTL:PT1H
BEGIN:VTIMEZONE
TZID:America/Denver
BEGIN:DAYLIGHT
TZOFFSETFROM:-0700
TZOFFSETTO:-0600
TZNAME:MDT
DTSTART:20220313T090000
END:DAYLIGHT
BEGIN:STANDARD
TZOFFSETFROM:-0600
TZOFFSETTO:-0700
TZNAME:MST
DTSTART:20221106T080000
END:STANDARD
BEGIN:DAYLIGHT
TZOFFSETFROM:-0700
TZOFFSETTO:-0600
TZNAME:MDT
DTSTART:20230312T090000
END:DAYLIGHT
BEGIN:STANDARD
TZOFFSETFROM:-0600
TZOFFSETTO:-0700
TZNAME:MST
DTSTART:20231105T080000
END:STANDARD
BEGIN:DAYLIGHT
TZOFFSETFROM:-0700
TZOFFSETTO:-0600
TZNAME:MDT
DTSTART:20240310T090000
END:DAYLIGHT
BEGIN:STANDARD
TZOFFSETFROM:-0600
TZOFFSETTO:-0700
TZNAME:MST
DTSTART:20241103T080000
END:STANDARD
BEGIN:DAYLIGHT
TZOFFSETFROM:-0700
TZOFFSETTO:-0600
TZNAME:MDT
DTSTART:20250309T090000
END:DAYLIGHT
BEGIN:STANDARD
TZOFFSETFROM:-0600
TZOFFSETTO:-0700
TZNAME:MST
DTSTART:20251102T080000
END:STANDARD
END:VTIMEZONE
BEGIN:VEVENT
DTSTART;TZID=America/Denver:20230831T080000
DTEND;TZID=America/Denver:20240401T170000
DTSTAMP:20260422T102027
CREATED:20230831T185431Z
LAST-MODIFIED:20230831T185431Z
UID:2915-1693468800-1711990800@bpsou.com
SUMMARY:Lexington Wetlands Construction
DESCRIPTION:
URL:https://bpsou.com/event/lexington-wetlands-construction/
LOCATION:Lexington Wetlands\, Lexington Ave and Chula Ave\, Butte\, Montana\, 59701\, United States
END:VEVENT
BEGIN:VEVENT
DTSTART;TZID=America/Denver:20240326T090000
DTEND;TZID=America/Denver:20240326T110000
DTSTAMP:20260422T102027
CREATED:20240313T231235Z
LAST-MODIFIED:20240313T231235Z
UID:2957-1711443600-1711450800@bpsou.com
SUMMARY:BPSOU RDRA Progress Meeting
DESCRIPTION:On March 26th\, 2024\, from 9:00 am to 11:00 am\, Atlantic Richfield\, EPA\, Butte Silver Bow County\, Montana DEQ\, and the Montana Natural Resource Damage Program invite the public to observe the Butte Priority Soils Operable Unit (BPSOU) Remedial Design/Remedial Action Progress Meeting (RDRA Progress Meeting) in a Teams Live event by computer or smart phone. \nBecause you will be watching a working meeting\, there will be no method for asking questions or making statements. If you have questions prior to or after the meeting\, please email those to Charles Van Otten\, vanotten.charles@epa.gov.   Agenda to follow. \nMeeting Link below: \nJoin a Microsoft Teams Live Event: \nClick here to Join meeting \nAttendees can use the link below to join the meeting via Teams or from a browser (like Chrome\, Firefox\, or Edge). Attendees can join from their computer or mobile device.
URL:https://bpsou.com/event/bpsou-rdra-progress-meeting/
END:VEVENT
BEGIN:VEVENT
DTSTART;TZID=America/Denver:20240328T190000
DTEND;TZID=America/Denver:20240328T210000
DTSTAMP:20260422T102027
CREATED:20240325T172910Z
LAST-MODIFIED:20240325T172959Z
UID:2964-1711652400-1711659600@bpsou.com
SUMMARY:Repository Siting Committee Meeting - March 28\, 2024
DESCRIPTION:The Repository Siting Committee will meet from 7 to 9 p.m. Thursday the 28th of March.  The public can access this meeting via Microsoft Teams and the link here: \nhttps://teams.microsoft.com/l/meetup-join/19%3ameeting_MzMzNzlkMGItMDgyMC00OWMyLWJjNTgtYTFhNjMyNjdjNzYy%40thread.v2/0?context=%7B%22Tid%22%3A%22ea80952e-a476-42d4-aaf4-5457852b0f7e%22%2C%22Oid%22%3A%221a2ce6c9-402e-4bb1-b87b-661b1d6bcfdd%22%2C%22IsBroadcastMeeting%22%3Atrue%2C%22role%22%3A%22a%22%7D&btype=a&role=a \nFor questions please call Eric Hassler at 406-497-5042 or ehassler@bsb.mt.gov. \n  \n 
URL:https://bpsou.com/event/repository-siting-committee-meeting-march-28-2024/
END:VEVENT
END:VCALENDAR